BEGIN:VCALENDAR
VERSION:2.0
CALSCALE:GREGORIAN
PRODID:-//WordPress//RSVPMaker//EN
METHOD:REQUEST
BEGIN:VEVENT
DTSTAMP:20260423T160653Z
UID:BD4C9AB730F5513206B999EC0D90D1FB@rsvpmaker.com
SEQUENCE:0
STATUS:CONFIRMED
DTSTART:20171223T220000Z
DTEND:20171223T230000Z
LOCATION:See\: http\://www.reddogfund.org/rsvpmaker/toys-for-montes-ki
 ds-2017-12-23/
SUMMARY:Toys for Monte's Kids!
DESCRIPTION:Event info\: http\://www.reddogfund.org/rsvpmaker/toys-for
 -montes-kids-2017-12-23/
END:VEVENT
END:VCALENDAR