BEGIN:VCALENDAR
VERSION:2.0
CALSCALE:GREGORIAN
PRODID:-//WordPress//RSVPMaker//EN
METHOD:REQUEST
BEGIN:VEVENT
DTSTAMP:20260423T122706Z
UID:3988C7F88EBCB58C6CE932B957B6F332@rsvpmaker.com
SEQUENCE:0
STATUS:CONFIRMED
DTSTART:20180421T200000Z
DTEND:20180421T210000Z
LOCATION:See\: http\://www.reddogfund.org/rsvpmaker/red-dog-bowl-a-tho
 n-2018-04-21/
SUMMARY:Red Dog Bowl-A-Thon
DESCRIPTION:Event info\: http\://www.reddogfund.org/rsvpmaker/red-dog-
 bowl-a-thon-2018-04-21/
END:VEVENT
END:VCALENDAR