BEGIN:VCALENDAR
VERSION:2.0
CALSCALE:GREGORIAN
PRODID:-//WordPress//RSVPMaker//EN
METHOD:REQUEST
BEGIN:VEVENT
DTSTAMP:20260423T161006Z
UID:A2557A7B2E94197FF767970B67041697@rsvpmaker.com
SEQUENCE:0
STATUS:CONFIRMED
DTSTART:19700101T000001Z
DTEND:19700101T000001Z
LOCATION:See\: http\://www.reddogfund.org/rsvpmaker/formdefault-2/
SUMMARY:Form:Default
DESCRIPTION:Event info\: http\://www.reddogfund.org/rsvpmaker/formdefa
 ult-2/
END:VEVENT
END:VCALENDAR