BEGIN:VCALENDAR
VERSION:2.0
CALSCALE:GREGORIAN
PRODID:-//WordPress//RSVPMaker//EN
METHOD:REQUEST
BEGIN:VEVENT
DTSTAMP:20260423T141254Z
UID:B3E3E393C77E35A4A3F3CBD1E429B5DC@rsvpmaker.com
SEQUENCE:0
STATUS:CONFIRMED
DTSTART:20170922T230000Z
DTEND:20170923T000000Z
LOCATION:See\: http\://www.reddogfund.org/rsvpmaker/6th-annual-gala-an
 d-silent-auction-2017-09-22/
SUMMARY:6th Annual Gala and Silent Auction
DESCRIPTION:Event info\: http\://www.reddogfund.org/rsvpmaker/6th-annu
 al-gala-and-silent-auction-2017-09-22/
END:VEVENT
END:VCALENDAR